BEGIN:VCALENDAR
VERSION:2.0
PRODID:-//Legatus - ECPv5.2.1.1//NONSGML v1.0//EN
CALSCALE:GREGORIAN
METHOD:PUBLISH
X-WR-CALNAME:Legatus
X-ORIGINAL-URL:https://legatus.sa.gov.au
X-WR-CALDESC:Events for Legatus
BEGIN:VTIMEZONE
TZID:Australia/Adelaide
BEGIN:STANDARD
TZOFFSETFROM:+1030
TZOFFSETTO:+0930
TZNAME:ACST
DTSTART:20200404T163000
END:STANDARD
BEGIN:DAYLIGHT
TZOFFSETFROM:+0930
TZOFFSETTO:+1030
TZNAME:ACDT
DTSTART:20201003T163000
END:DAYLIGHT
END:VTIMEZONE
BEGIN:VEVENT
DTSTART;TZID=Australia/Adelaide:20200904T100000
DTEND;TZID=Australia/Adelaide:20200904T150000
DTSTAMP:20210228T213655
CREATED:20191008T201224Z
LAST-MODIFIED:20200228T054634Z
UID:1086-1599213600-1599231600@legatus.sa.gov.au
SUMMARY:Legatus Group AGM and Ordinary Meeting
DESCRIPTION:
URL:https://legatus.sa.gov.au/event/legatus-group-agm-and-ordinary-meeting-2/
LOCATION:Yorke Peninsula Council
ORGANIZER;CN="Simon%20Millcock":MAILTO:ceo@legatus.sa.gov.au
END:VEVENT
END:VCALENDAR