BEGIN:VCALENDAR
VERSION:2.0
PRODID:-//Legatus - ECPv5.2.1.1//NONSGML v1.0//EN
CALSCALE:GREGORIAN
METHOD:PUBLISH
X-WR-CALNAME:Legatus
X-ORIGINAL-URL:https://legatus.sa.gov.au
X-WR-CALDESC:Events for Legatus
BEGIN:VTIMEZONE
TZID:Australia/Adelaide
BEGIN:STANDARD
TZOFFSETFROM:+1030
TZOFFSETTO:+0930
TZNAME:ACST
DTSTART:20200404T163000
END:STANDARD
BEGIN:DAYLIGHT
TZOFFSETFROM:+0930
TZOFFSETTO:+1030
TZNAME:ACDT
DTSTART:20201003T163000
END:DAYLIGHT
END:VTIMEZONE
BEGIN:VEVENT
DTSTART;TZID=Australia/Adelaide:20200807T143000
DTEND;TZID=Australia/Adelaide:20200807T160000
DTSTAMP:20210228T213523
CREATED:20200721T211238Z
LAST-MODIFIED:20200721T211238Z
UID:1664-1596810600-1596816000@legatus.sa.gov.au
SUMMARY:Legatus Group Local Govt Reform Bill workshop
DESCRIPTION:
URL:https://legatus.sa.gov.au/event/legatus-group-local-govt-reform-bill-workshop/
LOCATION:On-line
END:VEVENT
END:VCALENDAR