BEGIN:VCALENDAR
VERSION:2.0
PRODID:-//Legatus - ECPv5.2.1.1//NONSGML v1.0//EN
CALSCALE:GREGORIAN
METHOD:PUBLISH
X-WR-CALNAME:Legatus
X-ORIGINAL-URL:https://legatus.sa.gov.au
X-WR-CALDESC:Events for Legatus
BEGIN:VTIMEZONE
TZID:Australia/Adelaide
BEGIN:STANDARD
TZOFFSETFROM:+1030
TZOFFSETTO:+0930
TZNAME:ACST
DTSTART:20200404T163000
END:STANDARD
BEGIN:DAYLIGHT
TZOFFSETFROM:+0930
TZOFFSETTO:+1030
TZNAME:ACDT
DTSTART:20201003T163000
END:DAYLIGHT
END:VTIMEZONE
BEGIN:VEVENT
DTSTART;TZID=Australia/Adelaide:20200611T153000
DTEND;TZID=Australia/Adelaide:20200611T163000
DTSTAMP:20210228T213411
CREATED:20200510T011520Z
LAST-MODIFIED:20200510T011520Z
UID:1261-1591889400-1591893000@legatus.sa.gov.au
SUMMARY:Climate Ready Webinar Series Corporate Community Business
DESCRIPTION:Information sheet corporate community business
URL:https://legatus.sa.gov.au/event/climate-ready-webinar-series-corporate-community-business/
END:VEVENT
END:VCALENDAR